BEGIN:VCALENDAR
VERSION:2.0
PRODID:-//2022 ICON•S Annual Conference - ECPv5.16.2//NONSGML v1.0//EN
CALSCALE:GREGORIAN
METHOD:PUBLISH
X-WR-CALNAME:2022 ICON•S Annual Conference
X-ORIGINAL-URL:https://conference.icon-society.org
X-WR-CALDESC:Events for 2022 ICON•S Annual Conference
REFRESH-INTERVAL;VALUE=DURATION:PT1H
X-Robots-Tag:noindex
X-PUBLISHED-TTL:PT1H
BEGIN:VTIMEZONE
TZID:Europe/Berlin
BEGIN:DAYLIGHT
TZOFFSETFROM:+0100
TZOFFSETTO:+0200
TZNAME:CEST
DTSTART:20220327T010000
END:DAYLIGHT
BEGIN:STANDARD
TZOFFSETFROM:+0200
TZOFFSETTO:+0100
TZNAME:CET
DTSTART:20221030T010000
END:STANDARD
END:VTIMEZONE
BEGIN:VEVENT
DTSTART;TZID=Europe/Berlin:20220706T020000
DTEND;TZID=Europe/Berlin:20220706T030000
DTSTAMP:20260424T083627
CREATED:20220607T131127Z
LAST-MODIFIED:20220701T141830Z
UID:4726-1657072800-1657076400@conference.icon-society.org
SUMMARY:Women’s Reception
DESCRIPTION:ICON•S has been committed to gender justice and inclusion since the beginning. This includes a commitment to gender parity in the Co-presidency\, and substantial parity in the membership of the Council. As part of this\, the Society has also hosted a formal women’s reception and breakfast since 2018. \nThis year\, the reception will involve a joint breakfast on July 4 from 9 – 10 am in Wroclaw\, allowing for informal networking and conversation\, and for collective brainstorming about how to continually advance commitments to gender parity in the Society as well as public law academia more broadly. ICON-S Deputy Secretary General and ICON-S Special Advisor to the Presidency Diletta Tega will be hosting the reception and are inviting all female-identifying and non-binary members of the Society to join them and register by June 14 for the event by clicking here. \nFor those joining us online and from different time zones\, we are also holding a second reception online on July 6 at 2 am Wroclaw time (10 am Sydney time\, 8 am Singapore time and 7 pm Chicago (on July 5). Former ICON-S President Rosalind Dixon as well as other longstanding ICON-S female members of the ICON-S community from across the world will be hosting the event.
URL:https://conference.icon-society.org/event/womens-reception-2/
CATEGORIES:Social Events
ATTACH;FMTTYPE=image/png:https://conference.icon-society.org/wp-content/uploads/220602_ICON-S-2022–Onsite-Panel-Pix-Master128.png
ORGANIZER;CN="Host%201%20%5Bzoom1%5D":MAILTO:zoom1@icon-society.org
LOCATION:https://conference.icon-society.org/event/womens-reception-2/
END:VEVENT
END:VCALENDAR