BEGIN:VCALENDAR
VERSION:2.0
PRODID:-//2022 ICON•S Annual Conference - ECPv5.16.2//NONSGML v1.0//EN
CALSCALE:GREGORIAN
METHOD:PUBLISH
X-WR-CALNAME:2022 ICON•S Annual Conference
X-ORIGINAL-URL:https://conference.icon-society.org
X-WR-CALDESC:Events for 2022 ICON•S Annual Conference
REFRESH-INTERVAL;VALUE=DURATION:PT1H
X-Robots-Tag:noindex
X-PUBLISHED-TTL:PT1H
BEGIN:VTIMEZONE
TZID:Europe/Berlin
BEGIN:DAYLIGHT
TZOFFSETFROM:+0100
TZOFFSETTO:+0200
TZNAME:CEST
DTSTART:20220327T010000
END:DAYLIGHT
BEGIN:STANDARD
TZOFFSETFROM:+0200
TZOFFSETTO:+0100
TZNAME:CET
DTSTART:20221030T010000
END:STANDARD
END:VTIMEZONE
BEGIN:VEVENT
DTSTART;TZID=Europe/Berlin:20220704T223000
DTEND;TZID=Europe/Berlin:20220705T000000
DTSTAMP:20260424T100412
CREATED:20220607T150706Z
LAST-MODIFIED:20220701T142320Z
UID:4774-1656973800-1656979200@conference.icon-society.org
SUMMARY:Restorative Constitutionalism I: theoretical perspectives
DESCRIPTION:Constitutional scholars have long noted the difference between “preservative“ and “transformative“ modes of constitutionalism. Recent events have also called attention to “abusive“ forms of constitutionalism. But there is also a corralary\, under-noticed mode of constitutionalism that is “restorative“ in its aims. This is also a mode of democratic constitutionalism that seems especially important as we grapple with what it means for countries to overcome a recent history of democratic backsliding\, or abusive constitutional change. Yet it has received relatively little scholarly attention to date. This panel explores this question – building on recent debates on the topic on https://verfassungsblog.de – by reference to a range of comparative examples\, but especially the current challenges facing the US and Eastern Europe. The panel draws on contributions on the theme to thewww.verfassungsblog.de blog
URL:https://conference.icon-society.org/event/restorative-constitutionalism-i-theoretical-perspectives/
CATEGORIES:Online Panels
ATTACH;FMTTYPE=image/png:https://conference.icon-society.org/wp-content/uploads/220602_ICON-S-2022–Online-Panel-Pix-Master40.png
ORGANIZER;CN="Host%206%20%5Bzoom6%5D":MAILTO:zoom6@icon-society.org
LOCATION:https://conference.icon-society.org/event/restorative-constitutionalism-i-theoretical-perspectives/
END:VEVENT
END:VCALENDAR