BEGIN:VCALENDAR
VERSION:2.0
PRODID:-//2022 ICON•S Annual Conference - ECPv5.16.2//NONSGML v1.0//EN
CALSCALE:GREGORIAN
METHOD:PUBLISH
X-WR-CALNAME:2022 ICON•S Annual Conference
X-ORIGINAL-URL:https://conference.icon-society.org
X-WR-CALDESC:Events for 2022 ICON•S Annual Conference
REFRESH-INTERVAL;VALUE=DURATION:PT1H
X-Robots-Tag:noindex
X-PUBLISHED-TTL:PT1H
BEGIN:VTIMEZONE
TZID:Europe/Berlin
BEGIN:DAYLIGHT
TZOFFSETFROM:+0100
TZOFFSETTO:+0200
TZNAME:CEST
DTSTART:20220327T010000
END:DAYLIGHT
BEGIN:STANDARD
TZOFFSETFROM:+0200
TZOFFSETTO:+0100
TZNAME:CET
DTSTART:20221030T010000
END:STANDARD
END:VTIMEZONE
BEGIN:VEVENT
DTSTART;TZID=Europe/Berlin:20220705T091500
DTEND;TZID=Europe/Berlin:20220705T104500
DTSTAMP:20260424T101208
CREATED:20220607T150736Z
LAST-MODIFIED:20220701T142327Z
UID:4783-1657012500-1657017900@conference.icon-society.org
SUMMARY:EU law: Evolutions and challenges
DESCRIPTION:Panel formed with individual proposals.
URL:https://conference.icon-society.org/event/eu-law-evolutions-and-challenges/
CATEGORIES:Online Panels
ATTACH;FMTTYPE=image/png:https://conference.icon-society.org/wp-content/uploads/220602_ICON-S-2022–Online-Panel-Pix-Master49.png
ORGANIZER;CN="Host%206%20%5Bzoom6%5D":MAILTO:zoom6@icon-society.org
LOCATION:https://conference.icon-society.org/event/eu-law-evolutions-and-challenges/
END:VEVENT
END:VCALENDAR