BEGIN:VCALENDAR
VERSION:2.0
PRODID:-//2022 ICON•S Annual Conference - ECPv5.16.2//NONSGML v1.0//EN
CALSCALE:GREGORIAN
METHOD:PUBLISH
X-WR-CALNAME:2022 ICON•S Annual Conference
X-ORIGINAL-URL:https://conference.icon-society.org
X-WR-CALDESC:Events for 2022 ICON•S Annual Conference
REFRESH-INTERVAL;VALUE=DURATION:PT1H
X-Robots-Tag:noindex
X-PUBLISHED-TTL:PT1H
BEGIN:VTIMEZONE
TZID:Europe/Berlin
BEGIN:DAYLIGHT
TZOFFSETFROM:+0100
TZOFFSETTO:+0200
TZNAME:CEST
DTSTART:20220327T010000
END:DAYLIGHT
BEGIN:STANDARD
TZOFFSETFROM:+0200
TZOFFSETTO:+0100
TZNAME:CET
DTSTART:20221030T010000
END:STANDARD
END:VTIMEZONE
BEGIN:VEVENT
DTSTART;TZID=Europe/Berlin:20220704T223000
DTEND;TZID=Europe/Berlin:20220705T000000
DTSTAMP:20260424T095811
CREATED:20220607T150705Z
LAST-MODIFIED:20220701T142319Z
UID:4772-1656973800-1656979200@conference.icon-society.org
SUMMARY:Authoritarianism\, Constitutionalism and Populism: Courts and other Means
DESCRIPTION:The title of this year annual conference “Global Problems and Prospects in Public Law“ is very timely. In many countries\, we have witnessed recent upsprings of authoritarianism\, mainly in the form of populism\, including the erosion of norms\, which have tested the quality of our constitutional and democratic institutions. In that sense\, in the panel we would like to address some of its consequences and effects by focusing not only on the traditional case of courts and judicial independence\, but also in other non-traditional means\, such as the cyberwarfare that is actually going on in the course of the Ukrainian invasion by Russia.
URL:https://conference.icon-society.org/event/authoritarianism-constitutionalism-and-populism-courts-and-other-means/
CATEGORIES:Online Panels
ATTACH;FMTTYPE=image/png:https://conference.icon-society.org/wp-content/uploads/220602_ICON-S-2022–Online-Panel-Pix-Master38.png
ORGANIZER;CN="Host%204%20%5Bzoom4%5D":MAILTO:zoom4@icon-society.org
LOCATION:https://conference.icon-society.org/event/authoritarianism-constitutionalism-and-populism-courts-and-other-means/
END:VEVENT
END:VCALENDAR